BEGIN:VCALENDAR
VERSION:2.0
PRODID:-//Jyväskylän Työväenyhdistys - ECPv6.15.16//NONSGML v1.0//EN
CALSCALE:GREGORIAN
METHOD:PUBLISH
X-ORIGINAL-URL:https://jty.fi
X-WR-CALDESC:Tapahtumat Jyväskylän Työväenyhdistys
REFRESH-INTERVAL;VALUE=DURATION:PT1H
X-Robots-Tag:noindex
X-PUBLISHED-TTL:PT1H
BEGIN:VTIMEZONE
TZID:Europe/Helsinki
BEGIN:DAYLIGHT
TZOFFSETFROM:+0200
TZOFFSETTO:+0300
TZNAME:EEST
DTSTART:20250330T010000
END:DAYLIGHT
BEGIN:STANDARD
TZOFFSETFROM:+0300
TZOFFSETTO:+0200
TZNAME:EET
DTSTART:20251026T010000
END:STANDARD
BEGIN:DAYLIGHT
TZOFFSETFROM:+0200
TZOFFSETTO:+0300
TZNAME:EEST
DTSTART:20260329T010000
END:DAYLIGHT
BEGIN:STANDARD
TZOFFSETFROM:+0300
TZOFFSETTO:+0200
TZNAME:EET
DTSTART:20261025T010000
END:STANDARD
BEGIN:DAYLIGHT
TZOFFSETFROM:+0200
TZOFFSETTO:+0300
TZNAME:EEST
DTSTART:20270328T010000
END:DAYLIGHT
BEGIN:STANDARD
TZOFFSETFROM:+0300
TZOFFSETTO:+0200
TZNAME:EET
DTSTART:20271031T010000
END:STANDARD
END:VTIMEZONE
BEGIN:VEVENT
DTSTART;TZID=Europe/Helsinki:20260430T190000
DTEND;TZID=Europe/Helsinki:20260430T233000
DTSTAMP:20260421T023856
CREATED:20260420T114637Z
LAST-MODIFIED:20260420T114637Z
UID:3888-1777575600-1777591800@jty.fi
SUMMARY:VAPPUILTAMAT
DESCRIPTION:Aalto-salissa vappuaattona 30.4.2026 kello 19.00 alkaen vappuiltamat. Vappuaaton ehtoon iloksi esiintyvät sekakuoro Aallon laulajat\, soittokunta Kajastus\, Lempivärit ja ”Anna-Laina Korkolainen” tuo terveiset Kotivarapankin talletusvinkeistä. Illan aikana mahdollisuus laulaa karaokea. Tilaisuuden juontavat Jukka Hämäläinen ja Paula Honkimäki. Aalto-salin lämpiössä baari auki tilaisuuden ajan. Tilaisuuteen vapaa pääsy\, tervetuloa!
URL:https://jty.fi/tapahtuma/vappuiltamat-2/
LOCATION:Aalto-sali\, Väinönkatu 7\, Jyväskylä\, Suomi
END:VEVENT
BEGIN:VEVENT
DTSTART;TZID=Europe/Helsinki:20260509T140000
DTEND;TZID=Europe/Helsinki:20260509T160000
DTSTAMP:20260421T023856
CREATED:20260420T114948Z
LAST-MODIFIED:20260420T114948Z
UID:3893-1778335200-1778342400@jty.fi
SUMMARY:JUHLA ÄIDEILLE
DESCRIPTION:Lauantaina 9.5.2026 alkaen kello 14.00 Juhla äidille Aalto-Salissa. Tarjolla musiikkia JTY:n sekakuoro Aallon Laulajat ja soittokunta Kajastus. Tilaisuuden avaa Jyväskylän Työväenyhdistyksen johtokunnan jäsen\, Jyväskylän kaupunginvaltuutettu Arto Liikanen. Kakkukahvitarjoilu ja ruusu naisille. Tilaisuuteen vapaa pääsy\, tervetuloa!
URL:https://jty.fi/tapahtuma/juhla-aideille/
LOCATION:Aalto-sali\, Väinönkatu 7\, Jyväskylä\, Suomi
END:VEVENT
END:VCALENDAR